BEGIN:VCALENDAR
VERSION:2.0
PRODID:-//City of New Holstein, Wisconsin - ECPv6.15.17.1//NONSGML v1.0//EN
CALSCALE:GREGORIAN
METHOD:PUBLISH
X-WR-CALNAME:City of New Holstein, Wisconsin
X-ORIGINAL-URL:https://cityofnewholstein.org
X-WR-CALDESC:Events for City of New Holstein, Wisconsin
REFRESH-INTERVAL;VALUE=DURATION:PT1H
X-Robots-Tag:noindex
X-PUBLISHED-TTL:PT1H
BEGIN:VTIMEZONE
TZID:UTC
BEGIN:STANDARD
TZOFFSETFROM:+0000
TZOFFSETTO:+0000
TZNAME:UTC
DTSTART:20260101T000000
END:STANDARD
END:VTIMEZONE
BEGIN:VEVENT
DTSTART;TZID=UTC:20271102T170000
DTEND;TZID=UTC:20271102T190000
DTSTAMP:20260421T221303
CREATED:20220512T204819Z
LAST-MODIFIED:20220512T204819Z
UID:10001123-1825174800-1825182000@cityofnewholstein.org
SUMMARY:Chalet Reserved
DESCRIPTION:
URL:https://cityofnewholstein.org/event/chalet-reserved-118/2027-11-02/
CATEGORIES:Building Reservations
END:VEVENT
BEGIN:VEVENT
DTSTART;TZID=UTC:20271104T183000
DTEND;TZID=UTC:20271104T203000
DTSTAMP:20260421T221303
CREATED:20251106T174752Z
LAST-MODIFIED:20251106T174752Z
UID:10003848-1825353000-1825360200@cityofnewholstein.org
SUMMARY:Community Center Reserved
DESCRIPTION:4-H
URL:https://cityofnewholstein.org/event/community-center-reserved-355/2027-11-04/
CATEGORIES:Building Reservations
END:VEVENT
BEGIN:VEVENT
DTSTART;TZID=UTC:20271116T170000
DTEND;TZID=UTC:20271116T190000
DTSTAMP:20260421T221303
CREATED:20220512T210246Z
LAST-MODIFIED:20220512T210246Z
UID:10001762-1826384400-1826391600@cityofnewholstein.org
SUMMARY:Chalet Reserved
DESCRIPTION:
URL:https://cityofnewholstein.org/event/chalet-reserved-120/2027-11-16/
CATEGORIES:Building Reservations
END:VEVENT
BEGIN:VEVENT
DTSTART;TZID=UTC:20271123T160000
DTEND;TZID=UTC:20271123T190000
DTSTAMP:20260421T221303
CREATED:20220512T210740Z
LAST-MODIFIED:20220512T210740Z
UID:10001824-1826985600-1826996400@cityofnewholstein.org
SUMMARY:Chalet Reserved
DESCRIPTION:
URL:https://cityofnewholstein.org/event/chalet-reserved-121/2027-11-23/
CATEGORIES:Building Reservations
END:VEVENT
END:VCALENDAR