BEGIN:VCALENDAR
VERSION:2.0
PRODID:-//City of New Holstein, Wisconsin - ECPv6.15.17.1//NONSGML v1.0//EN
CALSCALE:GREGORIAN
METHOD:PUBLISH
X-WR-CALNAME:City of New Holstein, Wisconsin
X-ORIGINAL-URL:https://cityofnewholstein.org
X-WR-CALDESC:Events for City of New Holstein, Wisconsin
REFRESH-INTERVAL;VALUE=DURATION:PT1H
X-Robots-Tag:noindex
X-PUBLISHED-TTL:PT1H
BEGIN:VTIMEZONE
TZID:UTC
BEGIN:STANDARD
TZOFFSETFROM:+0000
TZOFFSETTO:+0000
TZNAME:UTC
DTSTART:20260101T000000
END:STANDARD
END:VTIMEZONE
BEGIN:VEVENT
DTSTART;TZID=UTC:20270504T170000
DTEND;TZID=UTC:20270504T190000
DTSTAMP:20260423T001330
CREATED:20220512T204819Z
LAST-MODIFIED:20220512T204819Z
UID:10001117-1809450000-1809457200@cityofnewholstein.org
SUMMARY:Chalet Reserved
DESCRIPTION:
URL:https://cityofnewholstein.org/event/chalet-reserved-118/2027-05-04/
CATEGORIES:Building Reservations
END:VEVENT
BEGIN:VEVENT
DTSTART;TZID=UTC:20270506T183000
DTEND;TZID=UTC:20270506T203000
DTSTAMP:20260423T001330
CREATED:20251106T174752Z
LAST-MODIFIED:20251106T174752Z
UID:10003842-1809628200-1809635400@cityofnewholstein.org
SUMMARY:Community Center Reserved
DESCRIPTION:4-H
URL:https://cityofnewholstein.org/event/community-center-reserved-355/2027-05-06/
CATEGORIES:Building Reservations
END:VEVENT
BEGIN:VEVENT
DTSTART;TZID=UTC:20270518T170000
DTEND;TZID=UTC:20270518T190000
DTSTAMP:20260423T001330
CREATED:20220512T210246Z
LAST-MODIFIED:20220512T210246Z
UID:10001756-1810659600-1810666800@cityofnewholstein.org
SUMMARY:Chalet Reserved
DESCRIPTION:
URL:https://cityofnewholstein.org/event/chalet-reserved-120/2027-05-18/
CATEGORIES:Building Reservations
END:VEVENT
BEGIN:VEVENT
DTSTART;TZID=UTC:20270525T160000
DTEND;TZID=UTC:20270525T190000
DTSTAMP:20260423T001330
CREATED:20220512T210740Z
LAST-MODIFIED:20220512T210740Z
UID:10001818-1811260800-1811271600@cityofnewholstein.org
SUMMARY:Chalet Reserved
DESCRIPTION:
URL:https://cityofnewholstein.org/event/chalet-reserved-121/2027-05-25/
CATEGORIES:Building Reservations
END:VEVENT
END:VCALENDAR